BEGIN:VCALENDAR
VERSION:2.0
PRODID:spatie/icalendar-generator
BEGIN:VTIMEZONE
TZID:Europe/Helsinki
BEGIN:DAYLIGHT
DTSTART:19700329T030000
TZOFFSETFROM:+0200
TZOFFSETTO:+0300
TZNAME:EEST
RRULE:FREQ=YEARLY;BYMONTH=3;BYDAY=-1SU
END:DAYLIGHT
BEGIN:STANDARD
DTSTART:19701025T040000
TZOFFSETFROM:+0300
TZOFFSETTO:+0200
TZNAME:EET
RRULE:FREQ=YEARLY;BYMONTH=10;BYDAY=-1SU
END:STANDARD
END:VTIMEZONE
BEGIN:VEVENT
UID:69e600a2de76b
DTSTAMP:20260420T103202Z
DTSTART;TZID=Europe/Helsinki:20230201T103000
DTEND;TZID=Europe/Helsinki:20230201T150000
SUMMARY:Virtuaalitodellisuuden ja hyvinvointiteknologian esittely/pop up H
 ärmän alueella
URL:https://www.seamk.fi/tapahtuma/virtuaalitodellisuuden-ja-hyvinvointitek
 nologian-esittely-pop-up-harman-alueella-2/
END:VEVENT
END:VCALENDAR